BEGIN:VCALENDAR
VERSION:2.0
PRODID:-//Teatro Consentido - ECPv6.15.20//NONSGML v1.0//EN
CALSCALE:GREGORIAN
METHOD:PUBLISH
X-WR-CALNAME:Teatro Consentido
X-ORIGINAL-URL:http://www.teatroconsentido.es
X-WR-CALDESC:Eventos para Teatro Consentido
REFRESH-INTERVAL;VALUE=DURATION:PT1H
X-Robots-Tag:noindex
X-PUBLISHED-TTL:PT1H
BEGIN:VTIMEZONE
TZID:Europe/Madrid
BEGIN:DAYLIGHT
TZOFFSETFROM:+0100
TZOFFSETTO:+0200
TZNAME:CEST
DTSTART:20200329T010000
END:DAYLIGHT
BEGIN:STANDARD
TZOFFSETFROM:+0200
TZOFFSETTO:+0100
TZNAME:CET
DTSTART:20201025T010000
END:STANDARD
BEGIN:DAYLIGHT
TZOFFSETFROM:+0100
TZOFFSETTO:+0200
TZNAME:CEST
DTSTART:20210328T010000
END:DAYLIGHT
BEGIN:STANDARD
TZOFFSETFROM:+0200
TZOFFSETTO:+0100
TZNAME:CET
DTSTART:20211031T010000
END:STANDARD
BEGIN:DAYLIGHT
TZOFFSETFROM:+0100
TZOFFSETTO:+0200
TZNAME:CEST
DTSTART:20220327T010000
END:DAYLIGHT
BEGIN:STANDARD
TZOFFSETFROM:+0200
TZOFFSETTO:+0100
TZNAME:CET
DTSTART:20221030T010000
END:STANDARD
BEGIN:DAYLIGHT
TZOFFSETFROM:+0100
TZOFFSETTO:+0200
TZNAME:CEST
DTSTART:20230326T010000
END:DAYLIGHT
BEGIN:STANDARD
TZOFFSETFROM:+0200
TZOFFSETTO:+0100
TZNAME:CET
DTSTART:20231029T010000
END:STANDARD
BEGIN:DAYLIGHT
TZOFFSETFROM:+0100
TZOFFSETTO:+0200
TZNAME:CEST
DTSTART:20240331T010000
END:DAYLIGHT
BEGIN:STANDARD
TZOFFSETFROM:+0200
TZOFFSETTO:+0100
TZNAME:CET
DTSTART:20241027T010000
END:STANDARD
END:VTIMEZONE
BEGIN:VEVENT
DTSTART;TZID=Europe/Madrid:20231125T190000
DTEND;TZID=Europe/Madrid:20231125T201500
DTSTAMP:20260420T131235
CREATED:20231105T083432Z
LAST-MODIFIED:20240305T090356Z
UID:1641-1700938800-1700943300@www.teatroconsentido.es
SUMMARY:Cabaret en vivo en Santiago del Arroyo
DESCRIPTION:TEATRO CONSENTIDO presenta un espectáculo de variedades al más puro estilo del cabaret.\n\n\n\nHumor\, música en directo\, monólogos\, acrobacia\, coreografías y erotismo van alternándose en el escenario para conseguir un espectáculo divertido y dinámico. \n\n\n\n\nMÁS INFORMACIÓN
URL:http://www.teatroconsentido.es/agenda/cabaret-en-vivo-en-santiago-del-arroyo/
LOCATION:Centro Cívico de Santiago del Arroyo\, C/ San Pedro\, Santiago del Arroyo\, Valladolid\, 47164\, España
END:VEVENT
BEGIN:VEVENT
DTSTART;TZID=Europe/Madrid:20231020T200000
DTEND;TZID=Europe/Madrid:20231020T211500
DTSTAMP:20260420T131235
CREATED:20231006T070838Z
LAST-MODIFIED:20240305T090356Z
UID:1616-1697832000-1697836500@www.teatroconsentido.es
SUMMARY:CHAMPÁN POR LAS TETAS en Getafe
DESCRIPTION:TEATRO CONSENTIDO se va a Getafe con «Champán por las tetas».\n\n\n\n“Champán por las tetas” es un espectáculo que habla de la vida de una drag queen\, Lady Veneno. De forma humorística\, la protagonista cuenta su historia. Qué es realidad y qué es ficción es el juego que moviliza a actor y público.“Mi nombre es Lady Veneno. No soy siria ni he sufrido una guerra. Pero tampoco soy rubia\, ni heterosexual\, ni siquiera del primer mundo\, tal vez “Miss Submundo”. \n\n\n\n\nMÁS INFORMACIÓN
URL:http://www.teatroconsentido.es/agenda/champan-por-las-tetas-en-getafe/
LOCATION:Espacio Mercado – Sala de exposiciones\, Pza. de la Constitución s/n\, Getafe\, Madrid\, 28901\, España
END:VEVENT
BEGIN:VEVENT
DTSTART;TZID=Europe/Madrid:20231013T213000
DTEND;TZID=Europe/Madrid:20231013T224500
DTSTAMP:20260420T131235
CREATED:20231005T115426Z
LAST-MODIFIED:20240305T090156Z
UID:1612-1697232600-1697237100@www.teatroconsentido.es
SUMMARY:CHAMPÁN POR LAS TETAS en Leiria\, Portugal
DESCRIPTION:TEATRO CONSENTIDO lleva «Champán por las tetas» al Festival ACASO en Leiria\, Portugal.\n\n\n\n“Champán por las tetas” es un espectáculo que habla de la vida de una drag queen\, Lady Veneno. De forma humorística\, la protagonista cuenta su historia. Qué es realidad y qué es ficción es el juego que moviliza a actor y público.“Mi nombre es Lady Veneno. No soy siria ni he sufrido una guerra. Pero tampoco soy rubia\, ni heterosexual\, ni siquiera del primer mundo\, tal vez “Miss Submundo”. \n\n\n\n\nMÁS INFORMACIÓN
URL:http://www.teatroconsentido.es/agenda/champan-por-las-tetas-en-leiria-portugal/
LOCATION:Teatro Miguel Franco\, R. Dr. Correia Mateus 40\, Leiria\, 2400-137\, Portugal
END:VEVENT
BEGIN:VEVENT
DTSTART;TZID=Europe/Madrid:20230609T200000
DTEND;TZID=Europe/Madrid:20230609T211500
DTSTAMP:20260420T131235
CREATED:20230602T103902Z
LAST-MODIFIED:20240305T090156Z
UID:1606-1686340800-1686345300@www.teatroconsentido.es
SUMMARY:Cabaret en vivo en Villanueva de Duero
DESCRIPTION:TEATRO CONSENTIDO presenta un espectáculo de variedades al más puro estilo del cabaret.\n\n\n\nHumor\, música en directo\, monólogos\, acrobacia\, coreografías y erotismo van alternándose en el escenario para conseguir un espectáculo divertido y dinámico. \n\n\n\n\nMÁS INFORMACIÓN
URL:http://www.teatroconsentido.es/agenda/cabaret-en-vivo-en-villanueva-de-duero/
LOCATION:Casa de Cultura El Corralón\, C/ Calvario\, s/n\, Villanueva de Duero\, Valladolid\, 47239\, España
END:VEVENT
BEGIN:VEVENT
DTSTART;TZID=Europe/Madrid:20230415T200000
DTEND;TZID=Europe/Madrid:20230415T211500
DTSTAMP:20260420T131235
CREATED:20230410T140419Z
LAST-MODIFIED:20240305T090155Z
UID:1599-1681588800-1681593300@www.teatroconsentido.es
SUMMARY:CHAMPÁN POR LAS TETAS en Mojados
DESCRIPTION:TEATRO CONSENTIDO presenta «Champán por las tetas» en el Auditorio Círculo Cultural (Mojados\, Valladolid).\n\n\n\nUn espectáculo de teatro que habla de la vida de la drag queen Lady Veneno a través de un gran anecdotario vital. \n\n\n\n\nMÁS INFORMACIÓN
URL:http://www.teatroconsentido.es/agenda/champan-por-las-tetas-en-mojados/
LOCATION:Auditorio Círculo Cultural\, Pza. de Santa María\, 8\, Mojados\, Valladolid\, 47250\, España
END:VEVENT
BEGIN:VEVENT
DTSTART;TZID=Europe/Madrid:20230325T200000
DTEND;TZID=Europe/Madrid:20230325T211500
DTSTAMP:20260420T131235
CREATED:20230309T115749Z
LAST-MODIFIED:20240305T090155Z
UID:1594-1679774400-1679778900@www.teatroconsentido.es
SUMMARY:CHAMPÁN POR LAS TETAS en Arroyo de la Encomienda
DESCRIPTION:Centro Multiusos La Vega (Arroyo de la Encomienda) \n\n\n\nTEATRO CONSENTIDO presenta «Champán por las tetas» en el Centro Multiusos La Vega (Arroyo de la Encomienda\, Valladolid).\n\n\n\nUn espectáculo de teatro que habla de la vida de la drag queen Lady Veneno a través de un gran anecdotario vital. \n\n\n\n\nMÁS INFORMACIÓN
URL:http://www.teatroconsentido.es/agenda/champan-por-las-tetas-en-arroyo-de-la-encomienda/
LOCATION:Centro Multiusos La Vega\, Av. Colón\, 80\, Arroyo de la Encomienda\, Valladolid\, 47195\, España
END:VEVENT
BEGIN:VEVENT
DTSTART;TZID=Europe/Madrid:20230311T210000
DTEND;TZID=Europe/Madrid:20230311T221500
DTSTAMP:20260420T131235
CREATED:20230303T164348Z
LAST-MODIFIED:20240305T090155Z
UID:1587-1678568400-1678572900@www.teatroconsentido.es
SUMMARY:Cabaret en vivo en Salamanca
DESCRIPTION:TEATRO CONSENTIDO presenta un espectáculo de variedades al más puro estilo del cabaret.\n\n\n\nHumor\, música en directo\, monólogos\, acrobacia\, coreografías y erotismo van alternándose en el escenario para conseguir un espectáculo divertido y dinámico. \n\n\n\nDentro del ciclo musical Las Piedras Cantan presentamos nuestro «Cabaret en vivo» en Salamanca. La entrada al concierto será libre con invitación\, que se podrá recoger una hora antes del concierto en la taquilla del propio Teatro. \n\n\n\n\nMÁS INFORMACIÓN
URL:http://www.teatroconsentido.es/agenda/cabaret-en-vivo-en-salamanca/
LOCATION:Teatro Juan del Encina\, C/ Tostado\, 8\, Salamanca\, 37008\, España
END:VEVENT
BEGIN:VEVENT
DTSTART;TZID=Europe/Madrid:20230217T200000
DTEND;TZID=Europe/Madrid:20230217T211500
DTSTAMP:20260420T131235
CREATED:20230210T113331Z
LAST-MODIFIED:20240305T090133Z
UID:1583-1676664000-1676668500@www.teatroconsentido.es
SUMMARY:CHAMPÁN POR LAS TETAS en La Cistérniga
DESCRIPTION:TEATRO CONSENTIDO presenta «Champán por las tetas» en la Casa de Cultura de La Cistérniga.\n\n\n\nUn espectáculo de teatro que habla de la vida de la drag queen Lady Veneno a través de un gran anecdotario vital. \n\n\n\nConsigue las entradas en la Casa de Cultura y en taquilla una hora antes del comienzo. \n\n\n\n\nMÁS INFORMACIÓN
URL:http://www.teatroconsentido.es/agenda/champan-por-las-tetas-en-la-cisterniga/
LOCATION:Auditorio – Casa de Cultura de La Cistérniga\, C/ Fuensaldaña s/n\, La Cistérniga\, Valladolid\, 47193\, España
END:VEVENT
BEGIN:VEVENT
DTSTART;TZID=Europe/Madrid:20230107T210000
DTEND;TZID=Europe/Madrid:20230107T221500
DTSTAMP:20260420T131235
CREATED:20221223T110301Z
LAST-MODIFIED:20240305T090133Z
UID:1563-1673125200-1673129700@www.teatroconsentido.es
SUMMARY:Cabaret en vivo en VALLADOLID
DESCRIPTION:TEATRO CONSENTIDO presenta un espectáculo de variedades al más puro estilo del cabaret.\n\n\n\n¡Nuevo espectáculo!\n\n\n\nHumor\, música en directo\, monólogos\, acrobacia\, coreografías y erotismo van alternándose en el escenario para conseguir un espectáculo divertido y dinámico. \n\n\n\nVenta de entradas en su web\, en taquilla y por teléfono (983 51 28 87). \n\n\n\n\nMÁS INFORMACIÓN
URL:http://www.teatroconsentido.es/agenda/cabaret-en-vivo-en-valladolid/
LOCATION:Teatro Cervantes\, C/ del Santuario\, 22\, Valladolid\, 47002\, España
END:VEVENT
BEGIN:VEVENT
DTSTART;TZID=Europe/Madrid:20221217T204500
DTEND;TZID=Europe/Madrid:20221217T220000
DTSTAMP:20260420T131235
CREATED:20220406T082804Z
LAST-MODIFIED:20240305T090111Z
UID:1393-1671309900-1671314400@www.teatroconsentido.es
SUMMARY:Cabaret en vivo en Sotillo de la Adrada
DESCRIPTION:TEATRO CONSENTIDO presenta un espectáculo de variedades al más puro estilo del cabaret.\n\n\n\nHumor\, música en directo\, monólogos\, magia\, coreografías y erotismo van alternándose en el escenario para conseguir un espectáculo divertido y dinámico. \n\n\n\n\nMÁS INFORMACIÓN
URL:http://www.teatroconsentido.es/agenda/cabaret-en-vivo-en-sotillo-de-la-adrada/
LOCATION:Burgos
END:VEVENT
BEGIN:VEVENT
DTSTART;TZID=Europe/Madrid:20221127T200000
DTEND;TZID=Europe/Madrid:20221127T210000
DTSTAMP:20260420T131235
CREATED:20220825T063013Z
LAST-MODIFIED:20240305T090133Z
UID:1484-1669579200-1669582800@www.teatroconsentido.es
SUMMARY:CHAMPÁN POR LAS TETAS en Valladolid
DESCRIPTION:TEATRO CONSENTIDO presenta «Champán por las tetas» en la Sala Delibes del Teatro Calderón.\n\n\n\nUn espectáculo de teatro que habla de la vida de la drag queen Lady Veneno a través de un gran anecdotario vital. \n\n\n\n\nCONSIGUE TUS ENTRADAS\n\n\n\nMÁS INFORMACIÓN
URL:http://www.teatroconsentido.es/agenda/champan-por-las-tetas-en-valladolid-3/
LOCATION:Teatro Calderón\, C/ de las Angustias\, 1\, Valladolid\, España\, 47003\, España
END:VEVENT
BEGIN:VEVENT
DTSTART;TZID=Europe/Madrid:20221126T200000
DTEND;TZID=Europe/Madrid:20221126T210000
DTSTAMP:20260420T131235
CREATED:20220825T062947Z
LAST-MODIFIED:20240305T090133Z
UID:1482-1669492800-1669496400@www.teatroconsentido.es
SUMMARY:CHAMPÁN POR LAS TETAS en Valladolid
DESCRIPTION:TEATRO CONSENTIDO presenta «Champán por las tetas» en la Sala Delibes del Teatro Calderón.\n\n\n\nUn espectáculo de teatro que habla de la vida de la drag queen Lady Veneno a través de un gran anecdotario vital. \n\n\n\n\nCONSIGUE TUS ENTRADAS\n\n\n\nMÁS INFORMACIÓN
URL:http://www.teatroconsentido.es/agenda/champan-por-las-tetas-en-valladolid-2/
LOCATION:Teatro Calderón\, C/ de las Angustias\, 1\, Valladolid\, España\, 47003\, España
END:VEVENT
BEGIN:VEVENT
DTSTART;TZID=Europe/Madrid:20221125T200000
DTEND;TZID=Europe/Madrid:20221125T210000
DTSTAMP:20260420T131235
CREATED:20220825T062747Z
LAST-MODIFIED:20240305T090112Z
UID:1477-1669406400-1669410000@www.teatroconsentido.es
SUMMARY:CHAMPÁN POR LAS TETAS en Valladolid
DESCRIPTION:TEATRO CONSENTIDO presenta «Champán por las tetas» en la Sala Delibes del Teatro Calderón.\n\n\n\nUn espectáculo de teatro que habla de la vida de la drag queen Lady Veneno a través de un gran anecdotario vital. \n\n\n\n\nCONSIGUE TUS ENTRADAS\n\n\n\nMÁS INFORMACIÓN
URL:http://www.teatroconsentido.es/agenda/champan-por-las-tetas-en-valladolid/
LOCATION:Teatro Calderón\, C/ de las Angustias\, 1\, Valladolid\, España\, 47003\, España
END:VEVENT
BEGIN:VEVENT
DTSTART;TZID=Europe/Madrid:20221030T200000
DTEND;TZID=Europe/Madrid:20221030T211500
DTSTAMP:20260420T131235
CREATED:20220406T082104Z
LAST-MODIFIED:20240305T090056Z
UID:1387-1667160000-1667164500@www.teatroconsentido.es
SUMMARY:Cabaret en vivo en Olmedo
DESCRIPTION:TEATRO CONSENTIDO presenta un espectáculo de variedades al más puro estilo del cabaret.\n\n\n\nHumor\, música en directo\, monólogos\, magia\, coreografías y erotismo van alternándose en el escenario para conseguir un espectáculo divertido y dinámico. \n\n\n\nVenta de entradas a partir del 22 de octubre en el Palacio Caballero de Olmedo\, en el Parque Temático del Mudéjar u online en www.entradasolmedo.com\, y el mismo día de la función media hora antes en la taquilla del teatro \n\n\n\n\nMÁS INFORMACIÓN
URL:http://www.teatroconsentido.es/agenda/cabaret-en-vivo-en-olmedo/
LOCATION:Centro de Artes Escénicas San Pedro\, C/ la Merced\, 1\, Olmedo\, Valladolid\, 47410\, España
END:VEVENT
BEGIN:VEVENT
DTSTART;TZID=Europe/Madrid:20220827T233000
DTEND;TZID=Europe/Madrid:20220828T003000
DTSTAMP:20260420T131235
CREATED:20220825T064517Z
LAST-MODIFIED:20240305T090133Z
UID:1488-1661643000-1661646600@www.teatroconsentido.es
SUMMARY:CHAMPÁN POR LAS TETAS en Ciudad Rodrigo
DESCRIPTION:TEATRO CONSENTIDO presenta «Champán por las tetas» en la 25 Feria de Teatro de Castilla y León.\n\n\n\nUn espectáculo de teatro que habla de la vida de la drag queen Lady Veneno a través de un gran anecdotario vital. \n\n\n\nLa venta de entradas se realizará a partir del domingo 14 de agosto a las 9:00 h:Por internet\, en www.feriadeteatro.com.En taquilla\, en el Teatro Nuevo “Fernando Arrabal”\, del 23 al 27 de agosto\, de 12:00 a 14:00 h. y una hora antes de cada espectáculo.O en la tienda DT informática (C. Santa Clara\, 21. Ciudad Rodrigo)\, del 16 al 23 de agosto de 10:00 a 14:00 y de 17:00 a 20:00 h. (20 sólo por la mañana y 21 de agosto cerrado).Teléfono de información para la venta de entradas: 923 48 05 03 \n\n\n\n\nMÁS INFORMACIÓN\n\n\n\n\n\n\n\n\n\n\n+ Google Maps
URL:http://www.teatroconsentido.es/agenda/champan-por-las-tetas-en-ciudad-rodrigo/
LOCATION:Patio de los Sitios\, Patio de los Sitios\, Ciudad Rodrigo\, Salamanca\, 37500\, España
END:VEVENT
BEGIN:VEVENT
DTSTART;TZID=Europe/Madrid:20220820T213000
DTEND;TZID=Europe/Madrid:20220820T223000
DTSTAMP:20260420T131235
CREATED:20220825T061403Z
LAST-MODIFIED:20240305T090112Z
UID:1472-1661031000-1661034600@www.teatroconsentido.es
SUMMARY:Cabaret en vivo en Villafrechós
DESCRIPTION:TEATRO CONSENTIDO presenta un espectáculo de variedades al más puro estilo del cabaret.\n\n\n\nHumor\, música en directo\, monólogos\, magia\, coreografías y erotismo van alternándose en el escenario para conseguir un espectáculo divertido y dinámico. \n\n\n\n\nMÁS INFORMACIÓN
URL:http://www.teatroconsentido.es/agenda/cabaret-en-vivo-en-villafrechos/
LOCATION:Centro Cívico de Villafrechós\, C/ Alejandro Nájera\, 10\, Villafrechós\, Valladolid\, 47810\, España
END:VEVENT
BEGIN:VEVENT
DTSTART;TZID=Europe/Madrid:20220623T200000
DTEND;TZID=Europe/Madrid:20220623T213000
DTSTAMP:20260420T131235
CREATED:20240305T090111Z
LAST-MODIFIED:20240305T090111Z
UID:1763-1656014400-1656019800@www.teatroconsentido.es
SUMMARY:SANDRA FERRÁNDEZ & Ensemble - Concierto
DESCRIPTION:Dentro del Ciclo Interdisciplinar de Música de Cámara de Oviedo (CimcOviedo)\, Sandra Ferrández ofrece “De París a Berlín” un viaje\, acompañada de músicos de cuerda y piano\, en el que recorrerá la música de los años 30 desde francés Francis Poulanc al alemán Kurt Weil. Un concierto ambientado en el cabaret de la época\, la velada será presentada por Héctor Matesanz\, co-fundador de Teatro Consentido. \n\n\n\n\nMás información
URL:http://www.teatroconsentido.es/agenda/sandra-ferrandez-ensemble-concierto/
LOCATION:Auditorio-Palacio de Congresos Príncipe Felipe\, Pza. del Fresno\, s/n\, Oviedo\, Asturias\, 33007\, España
END:VEVENT
BEGIN:VEVENT
DTSTART;TZID=Europe/Madrid:20220623T200000
DTEND;TZID=Europe/Madrid:20220623T213000
DTSTAMP:20260420T131235
CREATED:20220517T143033Z
LAST-MODIFIED:20220517T143359Z
UID:1462-1656014400-1656019800@www.teatroconsentido.es
SUMMARY:SANDRA FERRÁNDEZ & Ensemble - Concierto
DESCRIPTION:Dentro del Ciclo Interdisciplinar de Música de Cámara de Oviedo (CimcOviedo)\, Sandra Ferrández ofrece “De París a Berlín” un viaje\, acompañada de músicos de cuerda y piano\, en el que recorrerá la música de los años 30 desde francés Francis Poulanc al alemán Kurt Weil. Un concierto ambientado en el cabaret de la época\, la velada será presentada por Héctor Matesanz\, co-fundador de Teatro Consentido. \n\n\n\n\nMás información
URL:http://www.teatroconsentido.es/agenda/sandra-ferrandez-ensemble/
LOCATION:Auditorio-Palacio de Congresos Príncipe Felipe\, Pza. del Fresno\, s/n\, Oviedo\, Asturias\, 33007\, España
END:VEVENT
BEGIN:VEVENT
DTSTART;TZID=Europe/Madrid:20220526T200000
DTEND;TZID=Europe/Madrid:20220526T213000
DTSTAMP:20260420T131235
CREATED:20220517T142319Z
LAST-MODIFIED:20240305T090111Z
UID:1451-1653595200-1653600600@www.teatroconsentido.es
SUMMARY:PABLO SÁINZ VILLEGAS - Concierto
DESCRIPTION:Dentro del Ciclo Interdisciplinar de Música de Cámara de Oviedo (CimcOviedo)\, Pablo Sáinz-Villegas presenta su último disco publicado por la discográfica SONY “Alma de la guitarra española” donde\, a través de las piezas más emblemáticas escritas para el instrumento (Asturias de Isaac Albéniz\, La boda de Luis Alonso de Gerónimo Giménez o Recuerdos de la Alhambra entre otras)\, embarca al público en un viaje de melodías románticas y piezas de un virtuosismo apasionado. A su lado\, presentando el concierto y recitando textos relacionados con el programa estará Carmen Bécares\, actriz de la compañía de teatro clásico La Abadía y co-fundadora de Teatro Consentido. \n\n\n\n\nMás información
URL:http://www.teatroconsentido.es/agenda/pablo-sainz-villegas/
LOCATION:Auditorio-Palacio de Congresos Príncipe Felipe\, Pza. del Fresno\, s/n\, Oviedo\, Asturias\, 33007\, España
END:VEVENT
BEGIN:VEVENT
DTSTART;TZID=Europe/Madrid:20220507T200000
DTEND;TZID=Europe/Madrid:20220507T211500
DTSTAMP:20260420T131235
CREATED:20220406T081241Z
LAST-MODIFIED:20240305T090056Z
UID:1383-1651953600-1651958100@www.teatroconsentido.es
SUMMARY:Cabaret en vivo en Castroverde de Cerrato
DESCRIPTION:TEATRO CONSENTIDO presenta un espectáculo de variedades al más puro estilo del cabaret.\n\n\n\nHumor\, música en directo\, monólogos\, magia\, coreografías y erotismo van alternándose en el escenario para conseguir un espectáculo divertido y dinámico. \n\n\n\n\nMÁS INFORMACIÓN
URL:http://www.teatroconsentido.es/agenda/cabaret-en-vivo-en-tcastroverde-de-cerrato/
LOCATION:Centro de Convivencia de Castroverde de Cerrato\, Av. de Valladolid\, 56\, Castroverde de Cerrato\, Valladolid\, 47182
END:VEVENT
BEGIN:VEVENT
DTSTART;TZID=Europe/Madrid:20220422T200000
DTEND;TZID=Europe/Madrid:20220422T211500
DTSTAMP:20260420T131235
CREATED:20220405T174735Z
LAST-MODIFIED:20240305T090056Z
UID:1346-1650657600-1650662100@www.teatroconsentido.es
SUMMARY:Cabaret en vivo en Tudela de Duero
DESCRIPTION:TEATRO CONSENTIDO presenta un espectáculo de variedades al más puro estilo del cabaret.\n\n\n\nHumor\, música en directo\, monólogos\, magia\, coreografías y erotismo van alternándose en el escenario para conseguir un espectáculo divertido y dinámico. \n\n\n\nPrecio: 6 € \n\n\n\nVenta anticipada de entradas para los espectáculos y cine organizados por el Ayuntamiento en la CASA DE CULTURA de lunes a viernes laborables de 9 a 14 h. Horario de venta por las tardes y fines de semana consultar en Casa de Cultura 983- 52 20 38.\n\n\n\nVenta en taquilla desde una hora antes del espectáculo.\n\n\n\nApertura de puertas media hora antes del espectáculo.\n\n\n\nUna vez comenzado el espectáculo no se venderán entradas\, no se devolverá el dinero y no se permitirá el acceso a la Sala.\n\n\n\nUso obligatorio de mascarilla.\n\n\n\n\n\n\n\n\nMÁS INFORMACIÓN del espectáculo
URL:http://www.teatroconsentido.es/agenda/cabaret-en-vivo-en-tudela-de-duero/
LOCATION:Auditorio Municipal de Tudela de Duero\, Av. Valladolid\, s/n\, Tudela de Duero\, Valladolid\, 47320\, España
END:VEVENT
BEGIN:VEVENT
DTSTART;TZID=Europe/Madrid:20211205T000000
DTEND;TZID=Europe/Madrid:20211205T235900
DTSTAMP:20260420T131235
CREATED:20240305T090056Z
LAST-MODIFIED:20240305T090056Z
UID:1762-1638662400-1638748740@www.teatroconsentido.es
SUMMARY:Cabaret en vivo en Urones de Castroponce
DESCRIPTION:Teatro Consentido presenta un espectáculo de variedades al más puro estilo del cabaret.
URL:http://www.teatroconsentido.es/agenda/cabaret-en-vivo-en-urones-de-castroponce/
LOCATION:Corral de Anuncia en Urones de Castroponce\, Pza. de Santa María\, 17\, Urones de Castroponce\, Valladolid\, 47671\, España
END:VEVENT
BEGIN:VEVENT
DTSTART;TZID=Europe/Madrid:20211205T000000
DTEND;TZID=Europe/Madrid:20211205T235900
DTSTAMP:20260420T131235
CREATED:20210525T184903Z
LAST-MODIFIED:20240305T090055Z
UID:652-1638662400-1638748740@www.teatroconsentido.es
SUMMARY:Cabaret en vivo en Urones de Castroponce
DESCRIPTION:Teatro Consentido presenta un espectáculo de variedades al más puro estilo del cabaret.
URL:http://www.teatroconsentido.es/agenda/cabaret-en-vivo-en-urones/
LOCATION:Corral de Anuncia en Urones de Castroponce\, Pza. de Santa María\, 17\, Urones de Castroponce\, Valladolid\, 47671\, España
END:VEVENT
BEGIN:VEVENT
DTSTART;TZID=Europe/Madrid:20210828T000000
DTEND;TZID=Europe/Madrid:20210828T235900
DTSTAMP:20260420T131235
CREATED:20240305T090056Z
LAST-MODIFIED:20240305T090056Z
UID:1761-1630108800-1630195140@www.teatroconsentido.es
SUMMARY:Cabaret en vivo en San Miguel del Arroyo
DESCRIPTION:Teatro Consentido presenta un espectáculo de variedades al más puro estilo del cabaret.
URL:http://www.teatroconsentido.es/agenda/cabaret-en-vivo-en-san-miguel-del-arroyo-2/
LOCATION:Teatro Centro Cívico en San Miguel del Arroyo\, C/ Medina\, 17\, San Miguel del Arroyo\, Valladolid\, 47164\, España
END:VEVENT
BEGIN:VEVENT
DTSTART;TZID=Europe/Madrid:20210828T000000
DTEND;TZID=Europe/Madrid:20210828T235900
DTSTAMP:20260420T131235
CREATED:20210525T184647Z
LAST-MODIFIED:20240305T090055Z
UID:648-1630108800-1630195140@www.teatroconsentido.es
SUMMARY:Cabaret en vivo en San Miguel del Arroyo
DESCRIPTION:Teatro Consentido presenta un espectáculo de variedades al más puro estilo del cabaret.
URL:http://www.teatroconsentido.es/agenda/cabaret-en-vivo-en-san-miguel-del-arroyo/
LOCATION:Teatro Centro Cívico en San Miguel del Arroyo\, C/ Medina\, 17\, San Miguel del Arroyo\, Valladolid\, 47164\, España
END:VEVENT
BEGIN:VEVENT
DTSTART;TZID=Europe/Madrid:20210724T000000
DTEND;TZID=Europe/Madrid:20210724T235900
DTSTAMP:20260420T131235
CREATED:20210525T184455Z
LAST-MODIFIED:20240305T090052Z
UID:643-1627084800-1627171140@www.teatroconsentido.es
SUMMARY:Cabaret en vivo en Belorado
DESCRIPTION:Teatro Consentido presenta un espectáculo de variedades al más puro estilo del cabaret.
URL:http://www.teatroconsentido.es/agenda/cabaret-en-vivo-en-belorado/
LOCATION:Teatro Reina Sofía en Belorado\, Pza. de San Pedro\, 8\, Belorado\, Burgos\, 9250\, España
END:VEVENT
BEGIN:VEVENT
DTSTART;TZID=Europe/Madrid:20210626T210000
DTEND;TZID=Europe/Madrid:20210626T223000
DTSTAMP:20260420T131235
CREATED:20210525T184328Z
LAST-MODIFIED:20240305T090052Z
UID:639-1624741200-1624746600@www.teatroconsentido.es
SUMMARY:Cabaret en vivo en El Tiemblo
DESCRIPTION:Teatro Consentido presenta un espectáculo de variedades al más puro estilo del cabaret.
URL:http://www.teatroconsentido.es/agenda/cabaret-en-vivo-en-el-tiemblo/
LOCATION:Auditorio Villa de El Tiemblo\, Av. de la Juventud\, El Tiemblo\, Ávila\, 5270\, España
END:VEVENT
BEGIN:VEVENT
DTSTART;TZID=Europe/Madrid:20210619T000000
DTEND;TZID=Europe/Madrid:20210619T235900
DTSTAMP:20260420T131235
CREATED:20210525T184033Z
LAST-MODIFIED:20240305T090052Z
UID:635-1624060800-1624147140@www.teatroconsentido.es
SUMMARY:Cabaret en vivo en Alaejos
DESCRIPTION:Teatro Consentido presenta un espectáculo de variedades al más puro estilo del cabaret.
URL:http://www.teatroconsentido.es/agenda/cabaret-en-vivo-en-alaejos/
LOCATION:Teatro Municipal de Alaejos\, C/ Teatro\, 1\, Alaejos\, Valladolid\, 47510\, España
END:VEVENT
BEGIN:VEVENT
DTSTART;TZID=Europe/Madrid:20210612T000000
DTEND;TZID=Europe/Madrid:20210612T235900
DTSTAMP:20260420T131235
CREATED:20210525T183921Z
LAST-MODIFIED:20240305T090052Z
UID:629-1623456000-1623542340@www.teatroconsentido.es
SUMMARY:Cabaret en vivo en Barruelo de Santullán
DESCRIPTION:Teatro Consentido presenta un espectáculo de variedades al más puro estilo del cabaret.
URL:http://www.teatroconsentido.es/agenda/cabaret-en-vivo-en-barruelo/
LOCATION:Casa del Pueblo de Barruelo de Santullán\, C/ Jorge Manrique\, 25\, Barruelo de Santullán\, Palencia\, 34000\, España
END:VEVENT
BEGIN:VEVENT
DTSTART;TZID=Europe/Madrid:20210529T193000
DTEND;TZID=Europe/Madrid:20210529T210000
DTSTAMP:20260420T131235
CREATED:20210525T183659Z
LAST-MODIFIED:20240305T090052Z
UID:623-1622316600-1622322000@www.teatroconsentido.es
SUMMARY:Cabaret en vivo en Villanubla
DESCRIPTION:Teatro Consentido presenta un espectáculo de variedades al más puro estilo del cabaret.
URL:http://www.teatroconsentido.es/agenda/cabaret-en-vivo-en-villanubla/
LOCATION:Casa de Cultura de Villanubla\, Av. Cardenal Marcelo González\, 4\, Villanubla\, Valladolid\, 47620\, España
END:VEVENT
END:VCALENDAR